BEGIN:VCALENDAR
VERSION:2.0
PRODID:https://github.com/derhansen/sf_event_mgt
METHOD:PUBLISH
BEGIN:VEVENT
UID:1597-542@www.landkreis-schweinfurt.de
CLASS: PUBLIC
SUMMARY:Umweltrecht aktuell 2024
DESCRIPTION:Die virtuelle Veranstaltung der IHK vermittelt einen aktuellen 
 Kurzüberblick über die wesentlichen Änderungen und Neuerungen in der Umwelt
 gesetzgebung. Daneben wagen die Veranstalter wie immer einen kleinen Ausbli
 ck in diejenigen Vorhaben, die demnächst für Unternehmen relevant werden kö
 nnen. Hier geht es zur Anmeldung.
DTSTAMP:20240112T081141Z
DTSTART:20240130T090000Z
DTEND:20240130T113000Z
END:VEVENT
END:VCALENDAR
