BEGIN:VCALENDAR
VERSION:2.0
PRODID:https://github.com/derhansen/sf_event_mgt
METHOD:PUBLISH
BEGIN:VEVENT
UID:2159-542@www.landkreis-schweinfurt.de
CLASS: PUBLIC
SUMMARY:Nachfolge erfolgreich gestalten
DESCRIPTION:Erfahren Sie, wie Sie einen geeigneten Nachfolger für Ihren Bet
 rieb finden und welche Schritte bei einer erfolgreichen Betriebsübergabe en
 tscheidend sind. Sie erhalten Tipps, wie Sie die Übergabe klar und vertraue
 nsvoll kommunizieren – sowohl intern als auch extern. Zudem bieten wir Ihne
 n u. a. einen kompakten Überblick zur Wertermittlung Ihres Unternehmens, Er
 brecht, vertraglichen Aspekten und auch zur Ermittlung des Veräußerungsgewi
 nnes. Abschließend werden Sie über die Unterstützungsangebote der IHK und H
 WK informiert, die Sie während des gesamten Prozesses begleiten können.\n\n
 Referenten: Sonja Weigel, Industrie- und Handelskammer Würzburg und Rainer 
 Plössl, Handwerkskammer für Unterfranken\n\nDie kostenfreie Veranstaltung r
 ichtet sich an Unternehmerinnen und Unternehmer, die ihren Betrieb übergebe
 n möchten, als auch potenzielle Nachfolgerinnen und Nachfolger und alle, di
 e sich für das Thema Unternehmensübernahme interessieren (auch Gründerinnen
 , Gründer und Selbständige).\n\nWir freuen uns auf Ihre Teilnahme!
LOCATION:Katholisches Pfarrzentrum Werneck
DTSTAMP:20251204T070017Z
DTSTART:20251204T150000Z
DTEND:20251204T170000Z
END:VEVENT
END:VCALENDAR
