BEGIN:VCALENDAR
VERSION:2.0
PRODID:https://github.com/derhansen/sf_event_mgt
METHOD:PUBLISH
BEGIN:VEVENT
UID:2296-542@www.landkreis-schweinfurt.de
CLASS: PUBLIC
SUMMARY:FLIGHT TAKEOFF 2026
DESCRIPTION:Der TAKEOFF ist die offizielle Auftaktveranstaltung des FLIGHT 
 Accelerators 2026! Zum Einstieg wird das FLIGHT Programm vorgestellt, damit
  alle Gäste einen Einblick erhalten, was die Teams in den kommenden Monaten
  erwartet und welche Möglichkeiten das Programm bietet.Im Anschluss haben d
 ie Teilnehmenden die Gelegenheit, ihre Geschäftsideen in einem dreiminütige
 n Pitch vorzustellen. Das Event schafft eine großartige Möglichkeit, um sic
 h untereinander zu vernetzen, wertvolle Kontakte zu Mentorinnen, Mentoren u
 nd Netzwerkpartnern zu knüpfen und direktes Feedback zu erhalten. Seid dabe
 i, wenn die Reise ins FLIGHT Programm 2026 beginnt! Bitte bis zum 09. März 
 2026 hier anmelden.\n\n\n\n
LOCATION:T3 Business Terminal
DTSTAMP:20260224T140442Z
DTSTART:20260311T140000Z
DTEND:20260311T170000Z
END:VEVENT
END:VCALENDAR
