BEGIN:VCALENDAR
VERSION:2.0
PRODID:https://github.com/derhansen/sf_event_mgt
METHOD:PUBLISH
BEGIN:VEVENT
UID:1532-543@www.landkreis-schweinfurt.de
CLASS: PUBLIC
SUMMARY:Multivisionsvortrag "Gesund und fair würzen!"
DESCRIPTION:Dr. Jutta Ulmer und Dr. Michael Wolfsteiner haben auf Sri Lanka
  zwei Kleinbauern-Zusammenschlüsse besucht: die Fairtrade-gesiegelte Kooper
 ative SOFA sowie das WFTO-Mitglied PODIE. Produzenten beider Organisationen
  haben die zwei herzlich empfangen und ihnen gezeigt, wie sie Zimt, Muskatn
 üsse, Pfeffer, Kurkuma und Gewürznelken produzieren. Den Frauen durften die
  beiden Fotojournalisten außerdem beim Kochen feurig-scharfer Currys über d
 ie Schulter schauen.\n\nMit beeindruckenden Bildern berichten Dr. Jutta Ulm
 er und Dr. Michael Wolfsteiner über den Anbau und die Verarbeitung von Gewü
 rzen, ihre Verwendungsmöglichkeiten in der Küche sowie ihre Heilkräfte. Sie
  erzählen auch von den Vorteilen, die der Faire Handel den sri-lankischen K
 leinbauern bringt, und gehen auf die Unterschiede zwischen „Fairtrade-Siege
 l“ und „WFTO-Label“ ein. Beide sind zuverlässige Fair-Handels-Gütezeichen.\
 n\nDie Multivisionsshow bietet mit ihrer aufwändigen Programmierung, den ei
 nfühlsamen Geschichten und Musikpassagen ein betörend-faires Gewürzerlebnis
 .\n\nAls Fotografen und Journalisten mit dem Schwerpunkt Fairer Handel sind
  Dr. Jutta Ulmer und Dr. Michael Wolfsteiner Mitglieder der World Fair Trad
 e Organization (WFTO). Bekanntheit haben sie mit ihren beeindruckenden Mult
 ivisionsshows erlangt, in denen sie den Fairen Handel mit ihren ganz persön
 lichen Reiseerlebnissen kombinieren. Sie zeigen ihre Fotos auf Großleinwand
 . Durch die perfekte Abstimmung von brillanten Bildern, Live-Kommentaren un
 d berührender Musik entsteht eine magische Atmosphäre, die zu einem erkennt
 nisreichen Vergnügen einlädt.\n\nWir freuen uns auf Ihr Kommen!
LOCATION:Landratsamt Schweinfurt - Sitzungssaal
DTSTAMP:20231218T102854Z
DTSTART:20240118T163000Z
DTEND:20240118T183000Z
END:VEVENT
END:VCALENDAR
