BEGIN:VCALENDAR
VERSION:2.0
PRODID:https://github.com/derhansen/sf_event_mgt
METHOD:PUBLISH
BEGIN:VEVENT
UID:1506-226@www.landkreis-schweinfurt.de
CLASS: PUBLIC
SUMMARY:Bürgersprechstunde des Landrats
DESCRIPTION:Die nächste Bürgersprechstunde von Landrat Florian Töpper finde
 t am Donnerstag, 18. Januar 2024, von 14 bis 16 Uhr in seinem Dienstzimmer 
 im 3. Stock im Landratsamt Schweinfurt, Schrammstraße 1, 97421 Schweinfurt,
  statt.\n\nUm den Ablauf der Sprechstunde besser koordinieren zu können, is
 t eine Anmeldung erforderlich bis zum 10. Januar 2024. Diese ist möglich un
 ter der Telefonnummer 09721/55-601 oder auch hier. Dabei sollte das zu besp
 rechende Thema kurz angegeben werden.
LOCATION:Landratsamt Schweinfurt - Büro des Landrats
DTSTAMP:20231207T093530Z
DTSTART:20240118T130000Z
DTEND:20240118T150000Z
END:VEVENT
END:VCALENDAR
